BEGIN:VCALENDAR
VERSION:2.0
PRODID:spatie/icalendar-generator
DESCRIPTION:Händelser från Ängelholms IF - Friidrott
X-WR-CALDESC:Händelser från Ängelholms IF - Friidrott
REFRESH-INTERVAL;VALUE=DURATION:PT1440M
X-PUBLISHED-TTL:PT1440M
BEGIN:VTIMEZONE
TZID:Europe/Stockholm
BEGIN:DAYLIGHT
DTSTART:20250330T020000Z
TZOFFSETFROM:+0100
TZOFFSETTO:+0200
END:DAYLIGHT
BEGIN:STANDARD
DTSTART:20251026T030000Z
TZOFFSETFROM:+0200
TZOFFSETTO:+0100
END:STANDARD
END:VTIMEZONE
BEGIN:VTIMEZONE
TZID:UTC
BEGIN:STANDARD
DTSTART:20250725T085039Z
TZOFFSETFROM:+0000
TZOFFSETTO:+0000
END:STANDARD
END:VTIMEZONE
BEGIN:VEVENT
UID:1033-178
DTSTAMP:20260421T085039Z
SUMMARY:Utomhusträning födda 2012-2015
LOCATION:Kullavallen Kullavägen 81  Ängelholm
ORGANIZER;CN=Robert Nilsson:MAILTO:robert.nilsson@hestben.se
RRULE:FREQ=WEEKLY;UNTIL=20251009T000000Z
DTSTART;TZID=Europe/Stockholm:20250806T170000
DTEND;TZID=Europe/Stockholm:20250806T183000
X-ALT-DESC;FMTTYPE=TEXT/HTML:Tränare: Annica\, Andreas\, Jessica\, Robert\
 , Roger\, Sofie Under byggtiden kommer det bara finnas parkeringsplatser t
 ill tränare\, alla andra behöver tyvärr parkera på Catena Arena. Om du
  är intresserad av att testa på behöver du anmäla i förväg till ange
 lholmsif.anmalan@gmail.com.
CATEGORIES:Träning
URL;VALUE=URI:https://angelholmsif.com/kalender/?mc_id=1033&#038;vcal=1033
METHOD:PUBLISH
END:VEVENT
END:VCALENDAR