BEGIN:VCALENDAR
VERSION:2.0
PRODID:spatie/icalendar-generator
DESCRIPTION:Händelser från Ängelholms IF - Friidrott
X-WR-CALDESC:Händelser från Ängelholms IF - Friidrott
REFRESH-INTERVAL;VALUE=DURATION:PT1440M
X-PUBLISHED-TTL:PT1440M
BEGIN:VTIMEZONE
TZID:Europe/Stockholm
BEGIN:STANDARD
DTSTART:20251026T030000Z
TZOFFSETFROM:+0200
TZOFFSETTO:+0100
END:STANDARD
BEGIN:DAYLIGHT
DTSTART:20260329T020000Z
TZOFFSETFROM:+0100
TZOFFSETTO:+0200
END:DAYLIGHT
END:VTIMEZONE
BEGIN:VTIMEZONE
TZID:UTC
BEGIN:STANDARD
DTSTART:20250725T082956Z
TZOFFSETFROM:+0000
TZOFFSETTO:+0000
END:STANDARD
END:VTIMEZONE
BEGIN:VEVENT
UID:1186-226
DTSTAMP:20260421T082956Z
SUMMARY:UPPEHÅLL —  grupp 6 (födda 2016)
LOCATION:Södra Utmarkens Skola Tivoligatan 21  Ängelholm  262 53
ORGANIZER;CN=Simon Henriksson:MAILTO:06simon.henriksson@gmail.com
DTSTART;TZID=Europe/Stockholm:20260401T171500
DTEND;TZID=Europe/Stockholm:20260401T183000
X-ALT-DESC;FMTTYPE=TEXT/HTML:Mellan säsongerna tar vi ett uppehåll i samb
 and med påsklovet. Träningen börjar igen efter lovet.
CATEGORIES:Träning
URL;VALUE=URI:https://angelholmsif.com/kalender/?mc_id=1186&#038;vcal=1186
METHOD:PUBLISH
END:VEVENT
END:VCALENDAR