BEGIN:VCALENDAR
VERSION:2.0
PRODID:spatie/icalendar-generator
DESCRIPTION:Händelser från Ängelholms IF - Friidrott
X-WR-CALDESC:Händelser från Ängelholms IF - Friidrott
REFRESH-INTERVAL;VALUE=DURATION:PT1440M
X-PUBLISHED-TTL:PT1440M
BEGIN:VTIMEZONE
TZID:Europe/Stockholm
BEGIN:STANDARD
DTSTART:20251026T030000Z
TZOFFSETFROM:+0200
TZOFFSETTO:+0100
END:STANDARD
BEGIN:DAYLIGHT
DTSTART:20260329T020000Z
TZOFFSETFROM:+0100
TZOFFSETTO:+0200
END:DAYLIGHT
END:VTIMEZONE
BEGIN:VTIMEZONE
TZID:UTC
BEGIN:STANDARD
DTSTART:20250723T132907Z
TZOFFSETFROM:+0000
TZOFFSETTO:+0000
END:STANDARD
END:VTIMEZONE
BEGIN:VEVENT
UID:1314-204
DTSTAMP:20260419T132907Z
SUMMARY:Vinterträning grupp 2-3 (födda 2011 och tidigare) - OBS\, från o
 ch med 2026-03-04 på Kullavallen
LOCATION:Kullavallen Kullavägen 81  Ängelholm
ORGANIZER;CN=Robert Nilsson:MAILTO:robert.nilsson@hestben.se
RRULE:FREQ=WEEKLY;UNTIL=20260413T000000Z
DTSTART;TZID=Europe/Stockholm:20260325T180000
DTEND;TZID=Europe/Stockholm:20260325T200000
X-ALT-DESC;FMTTYPE=TEXT/HTML:Träning utomhus första 45-60min\, och inomhu
 s senare delen.
CATEGORIES:Träning
URL;VALUE=URI:https://angelholmsif.com/kalender/?mc_id=1314&#038;vcal=1314
METHOD:PUBLISH
END:VEVENT
END:VCALENDAR