BEGIN:VCALENDAR
VERSION:2.0
PRODID:spatie/icalendar-generator
DESCRIPTION:Händelser från Ängelholms IF - Friidrott
X-WR-CALDESC:Händelser från Ängelholms IF - Friidrott
REFRESH-INTERVAL;VALUE=DURATION:PT1440M
X-PUBLISHED-TTL:PT1440M
BEGIN:VTIMEZONE
TZID:Europe/Stockholm
BEGIN:STANDARD
DTSTART:20221030T030000Z
TZOFFSETFROM:+0200
TZOFFSETTO:+0100
END:STANDARD
BEGIN:DAYLIGHT
DTSTART:20230326T020000Z
TZOFFSETFROM:+0100
TZOFFSETTO:+0200
END:DAYLIGHT
BEGIN:STANDARD
DTSTART:20231029T030000Z
TZOFFSETFROM:+0200
TZOFFSETTO:+0100
END:STANDARD
END:VTIMEZONE
BEGIN:VTIMEZONE
TZID:UTC
BEGIN:STANDARD
DTSTART:20250728T193400Z
TZOFFSETFROM:+0000
TZOFFSETTO:+0000
END:STANDARD
END:VTIMEZONE
BEGIN:VEVENT
UID:206-38
DTSTAMP:20260424T193400Z
SUMMARY:Friidrottsträning grupp 4\, födda 2012-2013
LOCATION:Kullavallen Kullavägen 81  Ängelholm
ORGANIZER;CN=Robert Nilsson:MAILTO:robert.nilsson@hestben.se
RRULE:FREQ=WEEKLY;UNTIL=20230617T000000Z
DTSTART;TZID=Europe/Stockholm:20230528T100000
DTEND;TZID=Europe/Stockholm:20230528T113000
X-ALT-DESC;FMTTYPE=TEXT/HTML:Friidrottsträning för grupp 4\, födda 2012-
 2013. Tränare: Robert Nilsson Om du vill testa på\, kontakta Robert Nils
 son på robert.nilsson@hestben.se/0739-972869 i förväg.
CATEGORIES:Träning
URL;VALUE=URI:https://angelholmsif.com/kalender/?mc_id=206&#038;vcal=206
METHOD:PUBLISH
END:VEVENT
END:VCALENDAR