BEGIN:VCALENDAR
VERSION:2.0
PRODID:spatie/icalendar-generator
DESCRIPTION:Händelser från Ängelholms IF - Friidrott
X-WR-CALDESC:Händelser från Ängelholms IF - Friidrott
REFRESH-INTERVAL;VALUE=DURATION:PT1440M
X-PUBLISHED-TTL:PT1440M
BEGIN:VTIMEZONE
TZID:Europe/Stockholm
BEGIN:STANDARD
DTSTART:20231029T030000Z
TZOFFSETFROM:+0200
TZOFFSETTO:+0100
END:STANDARD
BEGIN:DAYLIGHT
DTSTART:20240331T020000Z
TZOFFSETFROM:+0100
TZOFFSETTO:+0200
END:DAYLIGHT
END:VTIMEZONE
BEGIN:VTIMEZONE
TZID:UTC
BEGIN:STANDARD
DTSTART:20250730T035550Z
TZOFFSETFROM:+0000
TZOFFSETTO:+0000
END:STANDARD
END:VTIMEZONE
BEGIN:VEVENT
UID:470-103
DTSTAMP:20260426T035550Z
SUMMARY:Friidrottsträning för grupp 5\, födda 2014-2015
LOCATION:Kullavallen Kullavägen 81  Ängelholm
ORGANIZER;CN=Robert Nilsson:MAILTO:robert.nilsson@hestben.se
RRULE:FREQ=WEEKLY;UNTIL=20240704T000000Z
DTSTART;TZID=Europe/Stockholm:20240417T170000
DTEND;TZID=Europe/Stockholm:20240417T183000
X-ALT-DESC;FMTTYPE=TEXT/HTML:Friidrottsträning för grupp 5\, födda 2014-
 2015. Vill du börja träna? Anmäl intresse till angelholmsif.anmalan@gma
 il.com Tränare:Andreas\, Annica\, Roger\, Sofie
CATEGORIES:Träning
URL;VALUE=URI:https://angelholmsif.com/kalender/?mc_id=470&#038;vcal=470
METHOD:PUBLISH
END:VEVENT
END:VCALENDAR