BEGIN:VCALENDAR
VERSION:2.0
PRODID:spatie/icalendar-generator
DESCRIPTION:Händelser från Ängelholms IF - Friidrott
X-WR-CALDESC:Händelser från Ängelholms IF - Friidrott
REFRESH-INTERVAL;VALUE=DURATION:PT1440M
X-PUBLISHED-TTL:PT1440M
BEGIN:VTIMEZONE
TZID:Europe/Stockholm
BEGIN:STANDARD
DTSTART:20231029T030000Z
TZOFFSETFROM:+0200
TZOFFSETTO:+0100
END:STANDARD
BEGIN:DAYLIGHT
DTSTART:20240331T020000Z
TZOFFSETFROM:+0100
TZOFFSETTO:+0200
END:DAYLIGHT
BEGIN:STANDARD
DTSTART:20241027T030000Z
TZOFFSETFROM:+0200
TZOFFSETTO:+0100
END:STANDARD
END:VTIMEZONE
BEGIN:VTIMEZONE
TZID:UTC
BEGIN:STANDARD
DTSTART:20250726T050852Z
TZOFFSETFROM:+0000
TZOFFSETTO:+0000
END:STANDARD
END:VTIMEZONE
BEGIN:VEVENT
UID:534-109
DTSTAMP:20260422T050852Z
SUMMARY:Löpträning
LOCATION:
ORGANIZER;CN=Robert Nilsson:MAILTO:robert.nilsson@hestben.se
RRULE:FREQ=WEEKLY;UNTIL=20250102T000000Z
DTSTART;TZID=Europe/Stockholm:20240516T173000
DTEND;TZID=Europe/Stockholm:20240516T191500
X-ALT-DESC;FMTTYPE=TEXT/HTML:Löpträning för de som kan springa 2km i bra
  tempo. För mer information\, kontakta Zälls på zaell@telia.com.
CATEGORIES:Träning
URL;VALUE=URI:https://angelholmsif.com/kalender/?mc_id=534&#038;vcal=534
METHOD:PUBLISH
END:VEVENT
END:VCALENDAR